BEGIN:VCALENDAR
VERSION:2.0
PRODID:-//wp-events-plugin.com//7.2.3.1//EN
TZID:Europe/Paris
X-WR-TIMEZONE:Europe/Paris
BEGIN:VEVENT
UID:25@sortiragruissan.fr
DTSTART;TZID=Europe/Paris:20250327T140000
DTEND;TZID=Europe/Paris:20250330T230000
DTSTAMP:20250314T122812Z
URL:https://sortiragruissan.fr/events/festival-culturevous/
SUMMARY:Festival Culture&Vous
DESCRIPTION:Culture&amp\;Vous revient au palais des congrès du 27 au 30 ma
 rs ! Festival culturel incontournable de Gruissan\, c'est le rendez-vous 
 des spectacles amateurs... Théâtre\, ateliers\, expositions\, sortie cu
 lturelle\, concerts... pendant quatre jours\, branchez vous culture sur un
  festival gratuit et ouvert à tous.\n\nToutes les infos du festival sur h
 ttps://www.facebook.com/grussanotetcompagnies\n\nProgramme sur https://dri
 ve.google.com/file/d/1Obma1zJ7IdmwnLcgJEk8-9EVfYD_EXsG/view?usp=sharing\n\
 nAttention\, certains ateliers sont gratuits sur inscription\, auprès de 
 la MJC de Gruissan (04.68.49.61.87).
ATTACH;FMTTYPE=image/jpeg:https://sortiragruissan.fr/wp-content/uploads/20
 25/03/received_1615844975718208.jpeg
LOCATION:Palais des congrès de Gruissan\, Palais des congrès\, Gruissan\,
  11430\, France
GEO:43.107708;3.090597
X-APPLE-STRUCTURED-LOCATION;VALUE=URI;X-ADDRESS=Palais des congrès\, Gruis
 san\, 11430\, France;X-APPLE-RADIUS=100;X-TITLE=Palais des congrès de Gru
 issan:geo:43.107708,3.090597
END:VEVENT
BEGIN:VTIMEZONE
TZID:Europe/Paris
X-LIC-LOCATION:Europe/Paris
BEGIN:STANDARD
DTSTART:20241027T020000
TZOFFSETFROM:+0200
TZOFFSETTO:+0100
TZNAME:CET
END:STANDARD
BEGIN:DAYLIGHT
DTSTART:20250330T030000
TZOFFSETFROM:+0100
TZOFFSETTO:+0200
TZNAME:CEST
END:DAYLIGHT
END:VTIMEZONE
END:VCALENDAR