BEGIN:VCALENDAR
VERSION:2.0
PRODID:-//wp-events-plugin.com//7.2.3.1//EN
TZID:Europe/Paris
X-WR-TIMEZONE:Europe/Paris
BEGIN:VEVENT
UID:23@sortiragruissan.fr
DTSTART;TZID=Europe/Paris:20250329T200000
DTEND;TZID=Europe/Paris:20250329T230000
DTSTAMP:20250306T073707Z
URL:https://sortiragruissan.fr/events/graines-despoir/
SUMMARY:Spectacle 'GRAINES D'ESPOIR' à Narbonne
DESCRIPTION:'GRAINES D'ESPOIR'\nSamedi 29 mars 20h00 12€\,  L' Annexe -s
 alle de spectacles rue du Lieutenant Colonel Deymes.\n\n\nBilletterie :\n\
 n\nhttps://www.helloasso.com/associations/maison-des-jeunes-et-de-la-cultu
 re-narbonne/evenements/12eme-edition-festival-de-danses-de-narbonne\n\n\n+
  mjc + sur place (si places restantes).\n
END:VEVENT
BEGIN:VTIMEZONE
TZID:Europe/Paris
X-LIC-LOCATION:Europe/Paris
BEGIN:STANDARD
DTSTART:20241027T020000
TZOFFSETFROM:+0200
TZOFFSETTO:+0100
TZNAME:CET
END:STANDARD
END:VTIMEZONE
END:VCALENDAR