BEGIN:VCALENDAR
VERSION:2.0
PRODID:-//wp-events-plugin.com//7.2.3.1//EN
TZID:Europe/Paris
X-WR-TIMEZONE:Europe/Paris
BEGIN:VEVENT
UID:4@sortiragruissan.fr
DTSTART;TZID=Europe/Paris;VALUE=DATE:20241122
DTEND;TZID=Europe/Paris;VALUE=DATE:20250101
DTSTAMP:20241217T180158Z
URL:https://sortiragruissan.fr/events/marche-de-noel-du-pirat-parc/
SUMMARY:Marché de Noël du Pirat Parc
DESCRIPTION:Marché de Noël du Pirat Parc\n\nDu 22 Novembre au 31 Décembr
 e 2024\n\nOu? Avenue des Plages 11430 GRUISSAN\n\n&nbsp\;
ATTACH;FMTTYPE=image/jpeg:https://sortiragruissan.fr/wp-content/uploads/20
 24/12/Pirat-Parc.jpg
END:VEVENT
BEGIN:VTIMEZONE
TZID:Europe/Paris
X-LIC-LOCATION:Europe/Paris
BEGIN:STANDARD
DTSTART:20241027T020000
TZOFFSETFROM:+0200
TZOFFSETTO:+0100
TZNAME:CET
END:STANDARD
END:VTIMEZONE
END:VCALENDAR