BEGIN:VCALENDAR
VERSION:2.0
PRODID:-//wp-events-plugin.com//7.2.3.1//EN
TZID:Europe/Paris
X-WR-TIMEZONE:Europe/Paris
BEGIN:VEVENT
UID:67@sortiragruissan.fr
DTSTART;TZID=Europe/Paris:20251010T180000
DTEND;TZID=Europe/Paris:20251110T180000
DTSTAMP:20251008T120019Z
URL:https://sortiragruissan.fr/events/vous-etes-ici-accueil-exposition-de-
 pierre-moussaoui-narbonne/
SUMMARY:Exposition de Pierre Moussaoui - Narbonne
DESCRIPTION:Vernissage le 10 octobre de l'exposition "A bouche que veux tu 
 ?"\n\n\nDu 10/10 au 10/11\n\n\n\n\nVernissage le 10 octobre à 18 h\n\n
 \n\n\nLa Place des Arts\n\n
ATTACH;FMTTYPE=image/jpeg:https://sortiragruissan.fr/wp-content/uploads/20
 25/10/pierre_moussaoui_affiche.jpg
END:VEVENT
BEGIN:VTIMEZONE
TZID:Europe/Paris
X-LIC-LOCATION:Europe/Paris
BEGIN:DAYLIGHT
DTSTART:20250330T030000
TZOFFSETFROM:+0100
TZOFFSETTO:+0200
TZNAME:CEST
END:DAYLIGHT
BEGIN:STANDARD
DTSTART:20251026T020000
TZOFFSETFROM:+0200
TZOFFSETTO:+0100
TZNAME:CET
END:STANDARD
END:VTIMEZONE
END:VCALENDAR